Workbook

Sheet Pay Plan
A1: Your Pay Plan
A2: Enter your rates below (yellow cells). Every deal on the Deal Log tab uses these.
A4: Setting | B4: Value | C4: What it means
A5: Front-end commission % | B5: 0.25 | C5: Your percentage of front-end gross (after the pack)
A6: Back-end commission % | B6: 0.05 | C6: Your percentage of back-end (F&I) gross
A7: Pack ($) | B7: 800 | C7: Deducted from front gross before commission
A8: Mini / flat floor ($) | B8: 200 | C8: If a deal's commission comes out below this, you get this flat amount
A10: When you hit a unit tier, update the percentages above.
A11: Tip: start a fresh copy of this file each month.

Sheet Deal Log
A1: Date | B1: Stock # | C1: Customer (optional) | D1: New/Used | E1: Credit (1 or 0.5) | F1: Front Gross | G1: Back Gross | H1: Front Commission | I1: Back Commission | J1: Deal Total | K1: Notes
H2: =IF($B2="","",($F2-'Pay Plan'!$B$7)*'Pay Plan'!$B$5*IF($E2=0.5,0.5,1)) -> 0 | I2: =IF($B2="","",$G2*'Pay Plan'!$B$6*IF($E2=0.5,0.5,1)) -> 0 | J2: =IF($B2="","",IF($E2=0.5,IF((($F2-'Pay Plan'!$B$7)*'Pay Plan'!$B$5+$G2*'Pay Plan'!$B$6)<'Pay Plan'!$B$8,'Pay Plan'!$B$8*0.5,(($F2-'Pay Plan'!$B$7)*'Pay Plan'!$B$5+$G2*'Pay Plan'!$B$6)*0.5),MAX((($F2-'Pay Plan'!$B$7)*'Pay Plan'!$B$5+$G2*'Pay Plan'!$B$6),'Pay Plan'!$B$8))) -> 0
H3: =IF($B3="","",($F3-'Pay Plan'!$B$7)*'Pay Plan'!$B$5*IF($E3=0.5,0.5,1)) -> 0 | I3: =IF($B3="","",$G3*'Pay Plan'!$B$6*IF($E3=0.5,0.5,1)) -> 0 | J3: =IF($B3="","",IF($E3=0.5,IF((($F3-'Pay Plan'!$B$7)*'Pay Plan'!$B$5+$G3*'Pay Plan'!$B$6)<'Pay Plan'!$B$8,'Pay Plan'!$B$8*0.5,(($F3-'Pay Plan'!$B$7)*'Pay Plan'!$B$5+$G3*'Pay Plan'!$B$6)*0.5),MAX((($F3-'Pay Plan'!$B$7)*'Pay Plan'!$B$5+$G3*'Pay Plan'!$B$6),'Pay Plan'!$B$8))) -> 0
H4: =IF($B4="","",($F4-'Pay Plan'!$B$7)*'Pay Plan'!$B$5*IF($E4=0.5,0.5,1)) -> 0 | I4: =IF($B4="","",$G4*'Pay Plan'!$B$6*IF($E4=0.5,0.5,1)) -> 0 | J4: =IF($B4="","",IF($E4=0.5,IF((($F4-'Pay Plan'!$B$7)*'Pay Plan'!$B$5+$G4*'Pay Plan'!$B$6)<'Pay Plan'!$B$8,'Pay Plan'!$B$8*0.5,(($F4-'Pay Plan'!$B$7)*'Pay Plan'!$B$5+$G4*'Pay Plan'!$B$6)*0.5),MAX((($F4-'Pay Plan'!$B$7)*'Pay Plan'!$B$5+$G4*'Pay Plan'!$B$6),'Pay Plan'!$B$8))) -> 0
H5: =IF($B5="","",($F5-'Pay Plan'!$B$7)*'Pay Plan'!$B$5*IF($E5=0.5,0.5,1)) -> 0 | I5: =IF($B5="","",$G5*'Pay Plan'!$B$6*IF($E5=0.5,0.5,1)) -> 0 | J5: =IF($B5="","",IF($E5=0.5,IF((($F5-'Pay Plan'!$B$7)*'Pay Plan'!$B$5+$G5*'Pay Plan'!$B$6)<'Pay Plan'!$B$8,'Pay Plan'!$B$8*0.5,(($F5-'Pay Plan'!$B$7)*'Pay Plan'!$B$5+$G5*'Pay Plan'!$B$6)*0.5),MAX((($F5-'Pay Plan'!$B$7)*'Pay Plan'!$B$5+$G5*'Pay Plan'!$B$6),'Pay Plan'!$B$8))) -> 0
H6: =IF($B6="","",($F6-'Pay Plan'!$B$7)*'Pay Plan'!$B$5*IF($E6=0.5,0.5,1)) -> 0 | I6: =IF($B6="","",$G6*'Pay Plan'!$B$6*IF($E6=0.5,0.5,1)) -> 0 | J6: =IF($B6="","",IF($E6=0.5,IF((($F6-'Pay Plan'!$B$7)*'Pay Plan'!$B$5+$G6*'Pay Plan'!$B$6)<'Pay Plan'!$B$8,'Pay Plan'!$B$8*0.5,(($F6-'Pay Plan'!$B$7)*'Pay Plan'!$B$5+$G6*'Pay Plan'!$B$6)*0.5),MAX((($F6-'Pay Plan'!$B$7)*'Pay Plan'!$B$5+$G6*'Pay Plan'!$B$6),'Pay Plan'!$B$8))) -> 0
H7: =IF($B7="","",($F7-'Pay Plan'!$B$7)*'Pay Plan'!$B$5*IF($E7=0.5,0.5,1)) -> 0 | I7: =IF($B7="","",$G7*'Pay Plan'!$B$6*IF($E7=0.5,0.5,1)) -> 0 | J7: =IF($B7="","",IF($E7=0.5,IF((($F7-'Pay Plan'!$B$7)*'Pay Plan'!$B$5+$G7*'Pay Plan'!$B$6)<'Pay Plan'!$B$8,'Pay Plan'!$B$8*0.5,(($F7-'Pay Plan'!$B$7)*'Pay Plan'!$B$5+$G7*'Pay Plan'!$B$6)*0.5),MAX((($F7-'Pay Plan'!$B$7)*'Pay Plan'!$B$5+$G7*'Pay Plan'!$B$6),'Pay Plan'!$B$8))) -> 0
H8: =IF($B8="","",($F8-'Pay Plan'!$B$7)*'Pay Plan'!$B$5*IF($E8=0.5,0.5,1)) -> 0 | I8: =IF($B8="","",$G8*'Pay Plan'!$B$6*IF($E8=0.5,0.5,1)) -> 0 | J8: =IF($B8="","",IF($E8=0.5,IF((($F8-'Pay Plan'!$B$7)*'Pay Plan'!$B$5+$G8*'Pay Plan'!$B$6)<'Pay Plan'!$B$8,'Pay Plan'!$B$8*0.5,(($F8-'Pay Plan'!$B$7)*'Pay Plan'!$B$5+$G8*'Pay Plan'!$B$6)*0.5),MAX((($F8-'Pay Plan'!$B$7)*'Pay Plan'!$B$5+$G8*'Pay Plan'!$B$6),'Pay Plan'!$B$8))) -> 0
H9: =IF($B9="","",($F9-'Pay Plan'!$B$7)*'Pay Plan'!$B$5*IF($E9=0.5,0.5,1)) -> 0 | I9: =IF($B9="","",$G9*'Pay Plan'!$B$6*IF($E9=0.5,0.5,1)) -> 0 | J9: =IF($B9="","",IF($E9=0.5,IF((($F9-'Pay Plan'!$B$7)*'Pay Plan'!$B$5+$G9*'Pay Plan'!$B$6)<'Pay Plan'!$B$8,'Pay Plan'!$B$8*0.5,(($F9-'Pay Plan'!$B$7)*'Pay Plan'!$B$5+$G9*'Pay Plan'!$B$6)*0.5),MAX((($F9-'Pay Plan'!$B$7)*'Pay Plan'!$B$5+$G9*'Pay Plan'!$B$6),'Pay Plan'!$B$8))) -> 0
H10: =IF($B10="","",($F10-'Pay Plan'!$B$7)*'Pay Plan'!$B$5*IF($E10=0.5,0.5,1)) -> 0 | I10: =IF($B10="","",$G10*'Pay Plan'!$B$6*IF($E10=0.5,0.5,1)) -> 0 | J10: =IF($B10="","",IF($E10=0.5,IF((($F10-'Pay Plan'!$B$7)*'Pay Plan'!$B$5+$G10*'Pay Plan'!$B$6)<'Pay Plan'!$B$8,'Pay Plan'!$B$8*0.5,(($F10-'Pay Plan'!$B$7)*'Pay Plan'!$B$5+$G10*'Pay Plan'!$B$6)*0.5),MAX((($F10-'Pay Plan'!$B$7)*'Pay Plan'!$B$5+$G10*'Pay Plan'!$B$6),'Pay Plan'!$B$8))) -> 0
H11: =IF($B11="","",($F11-'Pay Plan'!$B$7)*'Pay Plan'!$B$5*IF($E11=0.5,0.5,1)) -> 0 | I11: =IF($B11="","",$G11*'Pay Plan'!$B$6*IF($E11=0.5,0.5,1)) -> 0 | J11: =IF($B11="","",IF($E11=0.5,IF((($F11-'Pay Plan'!$B$7)*'Pay Plan'!$B$5+$G11*'Pay Plan'!$B$6)<'Pay Plan'!$B$8,'Pay Plan'!$B$8*0.5,(($F11-'Pay Plan'!$B$7)*'Pay Plan'!$B$5+$G11*'Pay Plan'!$B$6)*0.5),MAX((($F11-'Pay Plan'!$B$7)*'Pay Plan'!$B$5+$G11*'Pay Plan'!$B$6),'Pay Plan'!$B$8))) -> 0
H12: =IF($B12="","",($F12-'Pay Plan'!$B$7)*'Pay Plan'!$B$5*IF($E12=0.5,0.5,1)) -> 0 | I12: =IF($B12="","",$G12*'Pay Plan'!$B$6*IF($E12=0.5,0.5,1)) -> 0 | J12: =IF($B12="","",IF($E12=0.5,IF((($F12-'Pay Plan'!$B$7)*'Pay Plan'!$B$5+$G12*'Pay Plan'!$B$6)<'Pay Plan'!$B$8,'Pay Plan'!$B$8*0.5,(($F12-'Pay Plan'!$B$7)*'Pay Plan'!$B$5+$G12*'Pay Plan'!$B$6)*0.5),MAX((($F12-'Pay Plan'!$B$7)*'Pay Plan'!$B$5+$G12*'Pay Plan'!$B$6),'Pay Plan'!$B$8))) -> 0
H13: =IF($B13="","",($F13-'Pay Plan'!$B$7)*'Pay Plan'!$B$5*IF($E13=0.5,0.5,1)) -> 0 | I13: =IF($B13="","",$G13*'Pay Plan'!$B$6*IF($E13=0.5,0.5,1)) -> 0 | J13: =IF($B13="","",IF($E13=0.5,IF((($F13-'Pay Plan'!$B$7)*'Pay Plan'!$B$5+$G13*'Pay Plan'!$B$6)<'Pay Plan'!$B$8,'Pay Plan'!$B$8*0.5,(($F13-'Pay Plan'!$B$7)*'Pay Plan'!$B$5+$G13*'Pay Plan'!$B$6)*0.5),MAX((($F13-'Pay Plan'!$B$7)*'Pay Plan'!$B$5+$G13*'Pay Plan'!$B$6),'Pay Plan'!$B$8))) -> 0
... H201: =IF($B201="","",($F201-'Pay Plan'!$B$7)*'Pay Plan'!$B$5*IF($E201=0.5,0.5,1)) -> 0 | I201: =IF($B201="","",$G201*'Pay Plan'!$B$6*IF($E201=0.5,0.5,1)) -> 0 | J201: =IF($B201="","",IF($E201=0.5,IF((($F201-'Pay Plan'!$B$7)*'Pay Plan'!$B$5+$G201*'Pay Plan'!$B$6)<'Pay Plan'!$B$8,'Pay Plan'!$B$8*0.5,(($F201-'Pay Plan'!$B$7)*'Pay Plan'!$B$5+$G201*'Pay Plan'!$B$6)*0.5),MAX((($F201-'Pay Plan'!$B$7)*'Pay Plan'!$B$5+$G201*'Pay Plan'!$B$6),'Pay Plan'!$B$8))) -> 0

Sheet Summary
A1: Month to Date
A2: Updates automatically as you log deals.
A4: Metric | B4: Total
A5: Units sold | B5: =SUM('Deal Log'!$E$2:$E$201) -> 0
A6: Deals logged | B6: =COUNTA('Deal Log'!$B$2:$B$201) -> 0
A7: Front-end commission | B7: =SUM('Deal Log'!$H$2:$H$201) -> 0
A8: Back-end commission | B8: =SUM('Deal Log'!$I$2:$I$201) -> 0
A9: Grand total (incl. minis) | B9: =SUM('Deal Log'!$J$2:$J$201) -> 0
A11: Bonuses & spiffs: add them to the grand total manually, or let
A12: CommissionDesk track them automatically — free for 8 deals/month.
